BEGIN:VCALENDAR
VERSION:2.0
PRODID:-//Fayetteville, NC | Elevo Dynamics - ECPv6.15.10//NONSGML v1.0//EN
CALSCALE:GREGORIAN
METHOD:PUBLISH
X-WR-CALNAME:Fayetteville, NC | Elevo Dynamics
X-ORIGINAL-URL:https://elevodynamics.com
X-WR-CALDESC:Events for Fayetteville, NC | Elevo Dynamics
REFRESH-INTERVAL;VALUE=DURATION:PT1H
X-Robots-Tag:noindex
X-PUBLISHED-TTL:PT1H
BEGIN:VTIMEZONE
TZID:America/New_York
BEGIN:DAYLIGHT
TZOFFSETFROM:-0500
TZOFFSETTO:-0400
TZNAME:EDT
DTSTART:20130310T070000
END:DAYLIGHT
BEGIN:STANDARD
TZOFFSETFROM:-0400
TZOFFSETTO:-0500
TZNAME:EST
DTSTART:20131103T060000
END:STANDARD
BEGIN:DAYLIGHT
TZOFFSETFROM:-0500
TZOFFSETTO:-0400
TZNAME:EDT
DTSTART:20140309T070000
END:DAYLIGHT
BEGIN:STANDARD
TZOFFSETFROM:-0400
TZOFFSETTO:-0500
TZNAME:EST
DTSTART:20141102T060000
END:STANDARD
BEGIN:DAYLIGHT
TZOFFSETFROM:-0500
TZOFFSETTO:-0400
TZNAME:EDT
DTSTART:20150308T070000
END:DAYLIGHT
BEGIN:STANDARD
TZOFFSETFROM:-0400
TZOFFSETTO:-0500
TZNAME:EST
DTSTART:20151101T060000
END:STANDARD
BEGIN:DAYLIGHT
TZOFFSETFROM:-0500
TZOFFSETTO:-0400
TZNAME:EDT
DTSTART:20160313T070000
END:DAYLIGHT
BEGIN:STANDARD
TZOFFSETFROM:-0400
TZOFFSETTO:-0500
TZNAME:EST
DTSTART:20161106T060000
END:STANDARD
BEGIN:DAYLIGHT
TZOFFSETFROM:-0500
TZOFFSETTO:-0400
TZNAME:EDT
DTSTART:20170312T070000
END:DAYLIGHT
BEGIN:STANDARD
TZOFFSETFROM:-0400
TZOFFSETTO:-0500
TZNAME:EST
DTSTART:20171105T060000
END:STANDARD
BEGIN:DAYLIGHT
TZOFFSETFROM:-0500
TZOFFSETTO:-0400
TZNAME:EDT
DTSTART:20180311T070000
END:DAYLIGHT
BEGIN:STANDARD
TZOFFSETFROM:-0400
TZOFFSETTO:-0500
TZNAME:EST
DTSTART:20181104T060000
END:STANDARD
BEGIN:DAYLIGHT
TZOFFSETFROM:-0500
TZOFFSETTO:-0400
TZNAME:EDT
DTSTART:20190310T070000
END:DAYLIGHT
BEGIN:STANDARD
TZOFFSETFROM:-0400
TZOFFSETTO:-0500
TZNAME:EST
DTSTART:20191103T060000
END:STANDARD
BEGIN:DAYLIGHT
TZOFFSETFROM:-0500
TZOFFSETTO:-0400
TZNAME:EDT
DTSTART:20200308T070000
END:DAYLIGHT
BEGIN:STANDARD
TZOFFSETFROM:-0400
TZOFFSETTO:-0500
TZNAME:EST
DTSTART:20201101T060000
END:STANDARD
BEGIN:DAYLIGHT
TZOFFSETFROM:-0500
TZOFFSETTO:-0400
TZNAME:EDT
DTSTART:20210314T070000
END:DAYLIGHT
BEGIN:STANDARD
TZOFFSETFROM:-0400
TZOFFSETTO:-0500
TZNAME:EST
DTSTART:20211107T060000
END:STANDARD
BEGIN:DAYLIGHT
TZOFFSETFROM:-0500
TZOFFSETTO:-0400
TZNAME:EDT
DTSTART:20220313T070000
END:DAYLIGHT
BEGIN:STANDARD
TZOFFSETFROM:-0400
TZOFFSETTO:-0500
TZNAME:EST
DTSTART:20221106T060000
END:STANDARD
BEGIN:DAYLIGHT
TZOFFSETFROM:-0500
TZOFFSETTO:-0400
TZNAME:EDT
DTSTART:20230312T070000
END:DAYLIGHT
BEGIN:STANDARD
TZOFFSETFROM:-0400
TZOFFSETTO:-0500
TZNAME:EST
DTSTART:20231105T060000
END:STANDARD
BEGIN:DAYLIGHT
TZOFFSETFROM:-0500
TZOFFSETTO:-0400
TZNAME:EDT
DTSTART:20240310T070000
END:DAYLIGHT
BEGIN:STANDARD
TZOFFSETFROM:-0400
TZOFFSETTO:-0500
TZNAME:EST
DTSTART:20241103T060000
END:STANDARD
BEGIN:DAYLIGHT
TZOFFSETFROM:-0500
TZOFFSETTO:-0400
TZNAME:EDT
DTSTART:20250309T070000
END:DAYLIGHT
BEGIN:STANDARD
TZOFFSETFROM:-0400
TZOFFSETTO:-0500
TZNAME:EST
DTSTART:20251102T060000
END:STANDARD
END:VTIMEZONE
BEGIN:VEVENT
DTSTART;TZID=America/New_York:20240824T080000
DTEND;TZID=America/New_York:20240824T170000
DTSTAMP:20260423T141358
CREATED:20240717T180220Z
LAST-MODIFIED:20240717T193645Z
UID:13057-1724486400-1724518800@elevodynamics.com
SUMMARY:Restraint Fighting Seminar
DESCRIPTION:Learning how to move and strike effectively when your hands are restrained will either help or ruin any effort to save yourself by allowing you to fight back with the aim to escape.\n\nReal self-defense is about adaptability. One must first understand how to adjust to the worst-case situation. Should you ever be abducted or taken hostages\, you will probably be restrained. Having your hands taken out of play reduces your confidence in your ability to move correctly\, thereby impairing your capacity to fight back. Feeling that you cannot employ all your tools to properly defend yourself in an already demanding and burdensome environment will cause inaction.Join us for our restraint fighting seminar Saturday August 24th and learn how to move and strike effectively when your hands are restrained. This knowledge will enhance any effort to save yourself by allowing you to fight back with the goal of escape. \n\nClick here to sign up!
URL:https://elevodynamics.com/events/restraint-fighting-seminar/
ATTACH;FMTTYPE=image/jpeg:https://elevodynamics.com/wp-content/uploads/2019/07/18839000_692230657628671_8620298813827093070_n.jpg
END:VEVENT
BEGIN:VEVENT
DTSTART;TZID=America/New_York:20240729T090000
DTEND;TZID=America/New_York:20240802T150000
DTSTAMP:20260423T141358
CREATED:20240305T221545Z
LAST-MODIFIED:20240305T221721Z
UID:12588-1722243600-1722610800@elevodynamics.com
SUMMARY:Ninja Scout Camp July 2024!
DESCRIPTION:Ninja Scout Summer Camp\nJuly 29th – August 2nd 9:00 am – 3:00 pm. \n$250 for one student\, $230 for siblings\nAges 6 – 11\n \nThis camp will provide a blend of indoor learning and outdoor practical exercises. Get your child to enjoy the outdoors while they get valuable life skills. Your youth will enjoy skills like making a fire\, purifying water\, first aid\, and so much more.\n\nClick here to sign up!
URL:https://elevodynamics.com/events/12588/
ATTACH;FMTTYPE=image/webp:https://elevodynamics.com/wp-content/uploads/2024/03/Scout-camp.webp
END:VEVENT
BEGIN:VEVENT
DTSTART;TZID=America/New_York:20240716T080000
DTEND;TZID=America/New_York:20240716T170000
DTSTAMP:20260423T141358
CREATED:20240716T174842Z
LAST-MODIFIED:20240716T175055Z
UID:13045-1721116800-1721149200@elevodynamics.com
SUMMARY:Warrior Tribe Camp
DESCRIPTION:Welcome to FCS Kali Warrior Tribe Camp 2024. Join us September 14-15 and Enjoy a weekend of FCS Kali training with Tuhon Ray and many of his instructors as well as bushcraft training. This will be an amazing training opportunity located on a beautiful 100 acre private property with stunning scenery\, restroom facilities\, and living and training accommodations. This event will be the perfect blend of training\, camping and fellowship. We will learn combative techniques from Kali\, shelter building\, fire making\, and water Purification (for the best bushcraft experience bring this Knife). Full weekend registration includes a barbecue dinner Saturday night. This event is open to anyone wanting to learn Kali and bushcraft from skilled instructors. Half of all proceeds will go the furthering the work of the Non-profit group The Soil Foundation (www.TheSoilFoundation.Org). Don’t miss this great opportunity to have fun\, learn a lot\, and support a good cause! Save $50 if you Sign up before August 15th using promo code: TribeFamily2024 \nOne Site Cabin Accommodations\nFree Tent Camping on Site\n \nClick here to sign up! \nOff Site Accommodations \nWe look forward to seeing you there. \nArrive September 13th 5pm for set up and chilling by the fire.\nTraining Starts 9:30 am Saturday the 14th – 4 pm September 15th
URL:https://elevodynamics.com/events/warrior-tribe-camp/
ATTACH;FMTTYPE=image/jpeg:https://elevodynamics.com/wp-content/uploads/2024/07/Tribe-Camp.jpg
END:VEVENT
BEGIN:VEVENT
DTSTART;TZID=America/New_York:20240224T140000
DTEND;TZID=America/New_York:20240224T170000
DTSTAMP:20260423T141358
CREATED:20240116T191003Z
LAST-MODIFIED:20240116T192306Z
UID:12418-1708783200-1708794000@elevodynamics.com
SUMMARY:Ground Fighting Seminar
DESCRIPTION:Being on the ground is the most dangerous place to be in a fight.  In our training\, we try to avoid being on the ground as much as possible for this reason.  Sometimes\, however\, we may still find ourselves there despite our best efforts.  This seminar will focus on giving you the tools you need to deal with this possibility.  We will cover the basics of ground fighting and how to get back up to safety.  Don’t miss this important training! \n  \nThis seminar will be open to anyone in the Mon Jin program and/or over 12 years old\, and who is an active To Shin Do practitioner. \nThe session is February 24th from 2pm to 5pm \nAttendance will be $60 per person.  Mon Jin members get a $10 discount! \nClick here or see the front desk to sign up!
URL:https://elevodynamics.com/events/ground-fighting-seminar/
ATTACH;FMTTYPE=image/jpeg:https://elevodynamics.com/wp-content/uploads/2016/03/hardee-grappling.jpg
END:VEVENT
BEGIN:VEVENT
DTSTART;TZID=America/New_York:20240217T173000
DTEND;TZID=America/New_York:20240217T203000
DTSTAMP:20260423T141358
CREATED:20240126T195121Z
LAST-MODIFIED:20240126T195332Z
UID:12463-1708191000-1708201800@elevodynamics.com
SUMMARY:Valentine's Day NERF Wars Night
DESCRIPTION:Give your kids the night of their life while you have a worry free Valentines day with your significant other. Elevo Dynamics will entertain your youth with game after game of Nerf War mania (so bring your Nerf guns)\, other games and Pizza. Know your kids are safe and having fun\, while you enjoy your night. \nSaturday\, February 17th from 5:30pm to 8:30pm \nSee the front desk or click here to sign up
URL:https://elevodynamics.com/events/12463/
ATTACH;FMTTYPE=image/jpeg:https://elevodynamics.com/wp-content/uploads/2024/01/nerf-wars-valentines-fayetteville-.jpg
END:VEVENT
BEGIN:VEVENT
DTSTART;TZID=America/New_York:20230626T080000
DTEND;TZID=America/New_York:20230630T170000
DTSTAMP:20260423T141358
CREATED:20230425T175325Z
LAST-MODIFIED:20230427T203314Z
UID:11747-1687766400-1688144400@elevodynamics.com
SUMMARY:Ninja Games Camp June 2023
DESCRIPTION:  \nRun\, Jump\, Dodge and think your way.  \nCome to Ninja Games Camp! Your kids will have lots of fun \nas they face a series of unique Ninja obstacle courses and  \nother games that will be exciting but challenging.  \nChoose from a full day or half day option . \nJune 26th -30th \nAges 5 & UP \nAll Day $195 (9-3) / Half Day $145 (9-12 or 12- 3) \n  \nTo sign up for the camp\, click here.
URL:https://elevodynamics.com/events/11747/
ATTACH;FMTTYPE=image/jpeg:https://elevodynamics.com/wp-content/uploads/2019/04/93137.jpg
END:VEVENT
BEGIN:VEVENT
DTSTART;VALUE=DATE:20230519
DTEND;VALUE=DATE:20230522
DTSTAMP:20260423T141358
CREATED:20230208T204432Z
LAST-MODIFIED:20230421T012601Z
UID:11368-1684454400-1684713599@elevodynamics.com
SUMMARY:Spirit Quest 2023
DESCRIPTION:Elevo Dynamics in partnership with The Soil Foundation is proud to present Spirit Quest 2023. Break away from the mundane and hang out with great people\, get great martial arts training\, see awesome martial arts demonstration\, play games and learn amazing outdoor skills. Spirit Quest is a yearly event for all participants of our martial arts programs and their families. The event is held on The Soil Foundation’s beautiful 95 acre campground. You can camp in your tent or commute to the training everyday. There will be something for everyone. We will cover an array of training from traditional staff techniques\, hand to hand combat\, knife training\, tracking\, fire making\, bushcraft training\, and much more. For those who train\, there will be more than enough cool ninja skills being taught. For family members who aren’t training\, we will have a ton of awesome activities. Join us for the fun\, don’t miss this amazing event! \nSpirit Quest will be all weekend from May 19th-21st \nSee the front desk or click here to sign up!
URL:https://elevodynamics.com/events/spirit-quest-2023/
ATTACH;FMTTYPE=image/jpeg:https://elevodynamics.com/wp-content/uploads/2023/02/SQ-2023.jpg
END:VEVENT
BEGIN:VEVENT
DTSTART;TZID=America/New_York:20230410T090000
DTEND;TZID=America/New_York:20230414T150000
DTSTAMP:20260423T141358
CREATED:20230320T192515Z
LAST-MODIFIED:20230420T235509Z
UID:11612-1681117200-1681484400@elevodynamics.com
SUMMARY:Spring Break Camp 2023
DESCRIPTION:Drop your kids off for a full day or a half day of fun and activity during Spring break. Get them out of the house and off the couch and into our full day of Crafts\, Games and Fun for the whole week.\nThe camp will be April 10th-April 14th\n\nFull Day: 9am-3pm ($195 – 5 days) \nAges 5 -13 \n3 day option also available (call) \nSign up Here \nhttps://tms.ezfacility.com/OnlineRegistrations/Register.aspx?CompanyID=3865&GroupID=3402774
URL:https://elevodynamics.com/events/spring-break-camp-2023/
ATTACH;FMTTYPE=image/jpeg:https://elevodynamics.com/wp-content/uploads/2023/03/Spring-Break.jpg
END:VEVENT
BEGIN:VEVENT
DTSTART;TZID=America/New_York:20230304T150000
DTEND;TZID=America/New_York:20230305T180000
DTSTAMP:20260423T141358
CREATED:20230208T225240Z
LAST-MODIFIED:20230320T192620Z
UID:11506-1677942000-1678039200@elevodynamics.com
SUMMARY:Prof Jak Othman Close Quarters and to the Point Seminar
DESCRIPTION:Malaysian Silat is a multifaceted combat method designed for extreme midrange to close quarters combat. Prof Jak Othman is a world renown expert in many Silat styles and serves as a Professor of martial arts studies at a Malaysian University. He will be sharing techniques and history of several weapons such as the knife\, Kerambit\, Keris and devastating empty hand combat. With his wealth of knowledge you are guaranteed to see and experience movements you haven’t seen before. This seminar is open to beginners and the experienced. It is rare to get the opportunity to train with a master of this level in the art of Silat. Be there! \nMarch 4 & 5 (Sat-Sun)- 3pm-6pm (Fayetteville) \n  \nClick here to sign up!
URL:https://elevodynamics.com/events/pro-jak-othman-close-quarters-and-to-the-point-seminar/
ATTACH;FMTTYPE=image/jpeg:https://elevodynamics.com/wp-content/uploads/2023/02/Silat.jpg
END:VEVENT
BEGIN:VEVENT
DTSTART;VALUE=DATE:20230103
DTEND;VALUE=DATE:20230116
DTSTAMP:20260423T141358
CREATED:20230102T190110Z
LAST-MODIFIED:20230102T190116Z
UID:11252-1672704000-1673827199@elevodynamics.com
SUMMARY:Set it Off Gym Special
DESCRIPTION:Looking for a private Gym where you can feel comfortable and can use anytime you want without having to wait for equipment? We are the place for you.\nFrom January 3rd-15th You can Join Our Set It Off Special\nKICK OFF 2022 on the right foot!\nHERE’S WHAT YOU GET AT OUR ONE OF KIND FACILITY!\nSign up between January 3rd-14th and you get…\nNo Enrollment\n24 hour gym\n2 Months of Free Kickboxing\n8 Free Self Defense Classes\n2 Stress Management Class\n1 Free Nutritional Consult with a Registered Dietitian\nAll for less than a $1 per day.\nDon’t Wait! Call Now!\n910-488-1021
URL:https://elevodynamics.com/events/set-it-off-gym-special/
ATTACH;FMTTYPE=image/jpeg:https://elevodynamics.com/wp-content/uploads/2023/01/Set-It-Off.jpg
END:VEVENT
BEGIN:VEVENT
DTSTART;VALUE=DATE:20221029
DTEND;VALUE=DATE:20221031
DTSTAMP:20260423T141358
CREATED:20220913T182152Z
LAST-MODIFIED:20230102T185804Z
UID:10724-1667001600-1667174399@elevodynamics.com
SUMMARY:Reading The Land (Wilderness Tracking Class)
DESCRIPTION:This introductory course will introduce the learner to the basic language and concepts of Man-Tracking. You will be exposed to concepts required to recognize disturbances to the natural environment caused by animals and humans\, known as “sign”. You will be shown how to “read” sign in order to follow animal and human tracks. Practical exercises will include building a tracking-box in order to understand how to “age” sign\, viewing and analyzing animal sign in order to better appreciate human sign\, crafting and using a tracking-stick\, and following a track. The course will be taught outdoors\, regardless of the weather. You will work in small groups with supervision. At the completion of this two day 12-hour block of instruction you should understand basic concepts and techniques used by trackers. You will be acutely more aware of the presence of animal and human activity in your area. You will have the basic knowledge of how to find and follow sign\, and the tools to improve your ability to follow a track! \nThe Instructor for this course is Steve DeLellis. Steve is an experienced military tracker and survivalist. He has trained with Apache Indians on the western plains\, the Border Patrol along the southern border of the United States\, with the Iban People of Sarawak Malaysia and the Miskito tribe in the jungles of Central America. Having spent over three decades in U.S. Army Special Operations units\, he has used man-tracking extensively in remote locations around the globe.\nThis is a fundraiser for the SOIL Foundation which is a 501c3 specializing in wilderness therapy for veterans\, civil service members and youth. This is a family event that goes from Saturday October 29th-Sunday October 30th at camp Soil 1619 River rd. Robbins NC. Enjoy the beautiful outdoor scenery and learn a valuable life skill.
URL:https://elevodynamics.com/events/reading-the-land-wilderness-tracking-class/
ATTACH;FMTTYPE=image/jpeg:https://elevodynamics.com/wp-content/uploads/2022/09/305489056_501239232006402_4344160896906783128_n-1.jpg
END:VEVENT
BEGIN:VEVENT
DTSTART;VALUE=DATE:20220929
DTEND;VALUE=DATE:20221003
DTSTAMP:20260423T141358
CREATED:20220910T145624Z
LAST-MODIFIED:20230102T185725Z
UID:10679-1664409600-1664755199@elevodynamics.com
SUMMARY:Silat Seminar with Prof Jak Othman
DESCRIPTION:Malaysian Silat is a multifaceted combat method designed for extreme midrange to close quarters combat. Prof Jak Othman is a world renown expert in many Silat styles and serves as a Professor of martial arts studies at a Malaysian University. He will be sharing techniques of several weapons such as the knife\, Kerambit\, Keris and devastating empty hand combat. It is rare to get the opportunity to train with a master of this level in the art of Silat.\nBe there!  \nNote: testing is an addition $40 for each test (pay at desk in cash) \nOctober 1 & 2 (Sat-Sun)- 3pm-6pm  \nSeptember 29 & 30 (Thurs-Fri)- 7pm-9:30pm (Apprenticeship Only) \nClick here to sign up!
URL:https://elevodynamics.com/events/silat-seminar-with-prof-jak-othman/
END:VEVENT
BEGIN:VEVENT
DTSTART;TZID=America/New_York:20151214T200000
DTEND;TZID=America/New_York:20151214T204500
DTSTAMP:20260423T141358
CREATED:20140913T021415Z
LAST-MODIFIED:20151203T012103Z
UID:613-1450123200-1450125900@elevodynamics.com
SUMMARY:Adult Black Belt Club Class
DESCRIPTION:Adult Black Belt Club class December 7th and 14th at 8pm.
URL:https://elevodynamics.com/events/mon-jin/
END:VEVENT
BEGIN:VEVENT
DTSTART;TZID=America/New_York:20151207T200000
DTEND;TZID=America/New_York:20151207T204500
DTSTAMP:20260423T141358
CREATED:20141001T043642Z
LAST-MODIFIED:20151203T011909Z
UID:1032-1449518400-1449521100@elevodynamics.com
SUMMARY:Adult Black Belt Club
DESCRIPTION:Adult Black Belt Club class December 7th and 14th at 8pm.
URL:https://elevodynamics.com/events/mon-jin-2/
LOCATION:Elevo Dynamics\, 110 Person Street\, Fayetteville\, NC\, 28301\, United States
END:VEVENT
BEGIN:VEVENT
DTSTART;VALUE=DATE:20150925
DTEND;VALUE=DATE:20150928
DTSTAMP:20260423T141358
CREATED:20140913T022029Z
LAST-MODIFIED:20150902T041738Z
UID:614-1443139200-1443398399@elevodynamics.com
SUMMARY:International Folk Festival/Fourth Friday
DESCRIPTION:We will need volunteers to help pass out fliers\, and do demonstrations. There is a volunteer sign-up sheet located at the front desk.
URL:https://elevodynamics.com/events/international-folk-festivalfourth-friday/
END:VEVENT
BEGIN:VEVENT
DTSTART;TZID=America/New_York:20141011T143000
DTEND;TZID=America/New_York:20141011T163000
DTSTAMP:20260423T141358
CREATED:20140913T020113Z
LAST-MODIFIED:20141011T204413Z
UID:609-1413037800-1413045000@elevodynamics.com
SUMMARY:Ninja Knife Combat Seminar
DESCRIPTION:Hello Elevo Dynamics members and friends\, we want to make everyone was aware that we are postponing the knife combat seminar that was scheduled for today\, until further notice.
URL:https://elevodynamics.com/events/ninja-knife-combat-seminar/
LOCATION:Elevo Dynamics\, 110 Person Street\, Fayetteville\, NC\, 28301\, United States
END:VEVENT
BEGIN:VEVENT
DTSTART;TZID=America/New_York:20141004T090000
DTEND;TZID=America/New_York:20141004T160000
DTSTAMP:20260423T141358
CREATED:20140925T152218Z
LAST-MODIFIED:20141004T002123Z
UID:1012-1412413200-1412438400@elevodynamics.com
SUMMARY:Ninjanuity Survival 101 Postponed to a later date and time
DESCRIPTION:For those that were interested in our Ninjanuity Suvival 101 seminar scheduled for tomorrow October 4th\, we are going to have to postpone that event to a later date and time. However don’t forget about our Ninja Knife Combat seminar scheduled for next Saturday October 11th! See the front desk for the sign up sheet\, slots are filling up fast! \n\n\n 
URL:https://elevodynamics.com/events/ninjanuity-survival-101/
LOCATION:Elevo Dynamics\, 110 Person Street\, Fayetteville\, NC\, 28301\, United States
END:VEVENT
END:VCALENDAR